BEGIN:VCALENDAR
VERSION:2.0
PRODID:-//Vision Forward - ECPv6.15.20//NONSGML v1.0//EN
CALSCALE:GREGORIAN
METHOD:PUBLISH
X-WR-CALNAME:Vision Forward
X-ORIGINAL-URL:https://vision-forward.org
X-WR-CALDESC:Events for Vision Forward
REFRESH-INTERVAL;VALUE=DURATION:PT1H
X-Robots-Tag:noindex
X-PUBLISHED-TTL:PT1H
BEGIN:VTIMEZONE
TZID:America/Chicago
BEGIN:DAYLIGHT
TZOFFSETFROM:-0600
TZOFFSETTO:-0500
TZNAME:CDT
DTSTART:20240310T080000
END:DAYLIGHT
BEGIN:STANDARD
TZOFFSETFROM:-0500
TZOFFSETTO:-0600
TZNAME:CST
DTSTART:20241103T070000
END:STANDARD
BEGIN:DAYLIGHT
TZOFFSETFROM:-0600
TZOFFSETTO:-0500
TZNAME:CDT
DTSTART:20250309T080000
END:DAYLIGHT
BEGIN:STANDARD
TZOFFSETFROM:-0500
TZOFFSETTO:-0600
TZNAME:CST
DTSTART:20251102T070000
END:STANDARD
BEGIN:DAYLIGHT
TZOFFSETFROM:-0600
TZOFFSETTO:-0500
TZNAME:CDT
DTSTART:20260308T080000
END:DAYLIGHT
BEGIN:STANDARD
TZOFFSETFROM:-0500
TZOFFSETTO:-0600
TZNAME:CST
DTSTART:20261101T070000
END:STANDARD
END:VTIMEZONE
BEGIN:VEVENT
DTSTART;TZID=America/Chicago:20251218T100000
DTEND;TZID=America/Chicago:20251218T120000
DTSTAMP:20260422T094726
CREATED:20251027T175629Z
LAST-MODIFIED:20251028T154201Z
UID:17932-1766052000-1766059200@vision-forward.org
SUMMARY:Children's Holiday Celebration
DESCRIPTION:Santa is coming to town! He’s joining us for our annual preschool holiday celebration on Thursday\, December 18\, from 10am-Noon. \nWe’ll have a continental breakfast\, crafts\, a sing-a-long and Santa will join us from 10 – 11am to hand out gifts\, read a story\, and take pictures of the little ones. \nAn extra special thanks to the United Way Giving Tree donors who have sponsored presents in the past\, and for all children 12 and under\, who are enrolled this year. Siblings are also invited to attend\, so please indicate their age on the registration form if you would like them to receive a gift as well. At least one adult will need to accompany their children. Parking is available in the Vision Forward parking lot located north of the building at 10150 W. National Ave\, West Allis. \nPlease call or register online here by December 15.
URL:https://vision-forward.org/event/childrens-holiday-celebration/
LOCATION:Vision Forward New Location\, 10150 W National Ave\, West Allis\, Wisconsin\, United States
CATEGORIES:Children's Events
ATTACH;FMTTYPE=image/jpeg:https://vision-forward.org/wp-content/uploads/2025/10/santa-pic-2024-scaled.jpg
END:VEVENT
END:VCALENDAR