BEGIN:VCALENDAR
VERSION:2.0
PRODID:-//Vision Forward - ECPv6.15.20//NONSGML v1.0//EN
CALSCALE:GREGORIAN
METHOD:PUBLISH
X-ORIGINAL-URL:https://vision-forward.org
X-WR-CALDESC:Events for Vision Forward
REFRESH-INTERVAL;VALUE=DURATION:PT1H
X-Robots-Tag:noindex
X-PUBLISHED-TTL:PT1H
BEGIN:VTIMEZONE
TZID:America/Chicago
BEGIN:DAYLIGHT
TZOFFSETFROM:-0600
TZOFFSETTO:-0500
TZNAME:CDT
DTSTART:20250309T080000
END:DAYLIGHT
BEGIN:STANDARD
TZOFFSETFROM:-0500
TZOFFSETTO:-0600
TZNAME:CST
DTSTART:20251102T070000
END:STANDARD
BEGIN:DAYLIGHT
TZOFFSETFROM:-0600
TZOFFSETTO:-0500
TZNAME:CDT
DTSTART:20260308T080000
END:DAYLIGHT
BEGIN:STANDARD
TZOFFSETFROM:-0500
TZOFFSETTO:-0600
TZNAME:CST
DTSTART:20261101T070000
END:STANDARD
BEGIN:DAYLIGHT
TZOFFSETFROM:-0600
TZOFFSETTO:-0500
TZNAME:CDT
DTSTART:20270314T080000
END:DAYLIGHT
BEGIN:STANDARD
TZOFFSETFROM:-0500
TZOFFSETTO:-0600
TZNAME:CST
DTSTART:20271107T070000
END:STANDARD
END:VTIMEZONE
BEGIN:VEVENT
DTSTART;TZID=America/Chicago:20260101T080000
DTEND;TZID=America/Chicago:20260101T170000
DTSTAMP:20260421T102815
CREATED:20251231T183050Z
LAST-MODIFIED:20251231T183800Z
UID:18198-1767254400-1767286800@vision-forward.org
SUMMARY:Closed New Years Day
DESCRIPTION:Happy New Year! Please note that we will be closed on January 1st\, but will reopen on Friday\, January 2nd.
URL:https://vision-forward.org/event/closed-new-years-day/
LOCATION:WI
CATEGORIES:Holiday closures
ATTACH;FMTTYPE=image/jpeg:https://vision-forward.org/wp-content/uploads/2025/12/December-2025.jpg
END:VEVENT
BEGIN:VEVENT
DTSTART;TZID=America/Chicago:20260120T130000
DTEND;TZID=America/Chicago:20260120T130000
DTSTAMP:20260421T102815
CREATED:20251215T213914Z
LAST-MODIFIED:20251216T173352Z
UID:18182-1768914000-1768914000@vision-forward.org
SUMMARY:Recreation Classes Start for 2026
DESCRIPTION:Vision Forward offers on-going recreation classes for adults to get together and socialize.  All classes are run by volunteers.\nPlease note: there are new times and days for 2026! \nAdvanced registration is necessary for all classes. For questions\, or to register\,\ncontact Elle Henderson at 414-615-0161 or email ehenderson@vision-forward.org. \nActivities/Meetings\nThese are typically held at Vision Forward Association in a meeting area on the third floor\, unless otherwise indicated. \nA Closer Look – Discussion Group\nTuesdays – Meets every first and third weeks of the month\, 1pm – 2pm \nBingo\nTuesdays – Meets every week from 2:15pm – 3:45pm and\nThursdays – 9:30am – Noon \nBook Lovers Group\nTuesdays – Meets every second and fourth week of the month\, 1pm – 2pm \nFarkle\nTuesdays – Meets every second and fourth week of the month\, 1pm – 2pm \nFitness\nTuesdays – Meets every week\, 2:15pm – 3:45pm \nKnitting\nThursdays –Meets every week\, 9:15am – 10:15am \nSupport Group\nThursdays  – Meets every other week\, 10:30am – Noon \nVariety of Games\nTuesdays – Meets every first and third week of the month\, 1pm – 2pm \nDownload recreation schedule here
URL:https://vision-forward.org/event/recreation-classes-start-for-2026/
LOCATION:Vision Forward\, 912 N Hawley Rd\, Milwaukee\, WI\, 53213\, United States
CATEGORIES:Programs,Community
ATTACH;FMTTYPE=image/jpeg:https://vision-forward.org/wp-content/uploads/2025/12/20230124_vision-forward_434-scaled.jpg
ORGANIZER;CN="Vision Forward Association":MAILTO:info@vision-forward.org
END:VEVENT
END:VCALENDAR